BEGIN:VCALENDAR
VERSION:2.0
PRODID:-//Sustainability - ECPv6.15.20//NONSGML v1.0//EN
CALSCALE:GREGORIAN
METHOD:PUBLISH
X-WR-CALNAME:Sustainability
X-ORIGINAL-URL:https://sustainability.colostate.edu
X-WR-CALDESC:Events for Sustainability
REFRESH-INTERVAL;VALUE=DURATION:PT1H
X-Robots-Tag:noindex
X-PUBLISHED-TTL:PT1H
BEGIN:VTIMEZONE
TZID:America/Denver
BEGIN:DAYLIGHT
TZOFFSETFROM:-0700
TZOFFSETTO:-0600
TZNAME:MDT
DTSTART:20220313T090000
END:DAYLIGHT
BEGIN:STANDARD
TZOFFSETFROM:-0600
TZOFFSETTO:-0700
TZNAME:MST
DTSTART:20221106T080000
END:STANDARD
BEGIN:DAYLIGHT
TZOFFSETFROM:-0700
TZOFFSETTO:-0600
TZNAME:MDT
DTSTART:20230312T090000
END:DAYLIGHT
BEGIN:STANDARD
TZOFFSETFROM:-0600
TZOFFSETTO:-0700
TZNAME:MST
DTSTART:20231105T080000
END:STANDARD
BEGIN:DAYLIGHT
TZOFFSETFROM:-0700
TZOFFSETTO:-0600
TZNAME:MDT
DTSTART:20240310T090000
END:DAYLIGHT
BEGIN:STANDARD
TZOFFSETFROM:-0600
TZOFFSETTO:-0700
TZNAME:MST
DTSTART:20241103T080000
END:STANDARD
END:VTIMEZONE
BEGIN:VEVENT
DTSTART;TZID=America/Denver:20231130T160000
DTEND;TZID=America/Denver:20231130T180000
DTSTAMP:20260423T000908
CREATED:20231128T170835Z
LAST-MODIFIED:20231128T170835Z
UID:13042-1701360000-1701367200@sustainability.colostate.edu
SUMMARY:Holiday Open House
DESCRIPTION:Kick off the holiday season with SoGES at our annual Holiday Open House. This event provides an opportunity to catch up with SoGES faculty and friends and learn about opportunities coming up in 2024!
URL:https://sustainability.colostate.edu/event/holiday-open-house_2023/
LOCATION:Johnson Hall room 108\, 950 Libbie Coy Way\, Fort Collins\, CO\, 80523\, United States
ATTACH;FMTTYPE=image/png:https://sustainability.colostate.edu/wp-content/uploads/sites/2/2023/11/HolidayOpenHouse_2023_7.png
ORGANIZER;CN="Laura Shaver":MAILTO:laura.shaver@colostate.edu
END:VEVENT
END:VCALENDAR