BEGIN:VCALENDAR
VERSION:2.0
PRODID:-//Sustainability - ECPv6.15.20//NONSGML v1.0//EN
CALSCALE:GREGORIAN
METHOD:PUBLISH
X-ORIGINAL-URL:https://sustainability.colostate.edu
X-WR-CALDESC:Events for Sustainability
REFRESH-INTERVAL;VALUE=DURATION:PT1H
X-Robots-Tag:noindex
X-PUBLISHED-TTL:PT1H
BEGIN:VTIMEZONE
TZID:America/Denver
BEGIN:DAYLIGHT
TZOFFSETFROM:-0700
TZOFFSETTO:-0600
TZNAME:MDT
DTSTART:20220313T090000
END:DAYLIGHT
BEGIN:STANDARD
TZOFFSETFROM:-0600
TZOFFSETTO:-0700
TZNAME:MST
DTSTART:20221106T080000
END:STANDARD
BEGIN:DAYLIGHT
TZOFFSETFROM:-0700
TZOFFSETTO:-0600
TZNAME:MDT
DTSTART:20230312T090000
END:DAYLIGHT
BEGIN:STANDARD
TZOFFSETFROM:-0600
TZOFFSETTO:-0700
TZNAME:MST
DTSTART:20231105T080000
END:STANDARD
BEGIN:DAYLIGHT
TZOFFSETFROM:-0700
TZOFFSETTO:-0600
TZNAME:MDT
DTSTART:20240310T090000
END:DAYLIGHT
BEGIN:STANDARD
TZOFFSETFROM:-0600
TZOFFSETTO:-0700
TZNAME:MST
DTSTART:20241103T080000
END:STANDARD
END:VTIMEZONE
BEGIN:VEVENT
DTSTART;TZID=America/Denver:20230501T120000
DTEND;TZID=America/Denver:20230501T133000
DTSTAMP:20260419T200852
CREATED:20230412T171935Z
LAST-MODIFIED:20230412T171935Z
UID:12065-1682942400-1682947800@sustainability.colostate.edu
SUMMARY:Just Transitions: Expanding the Scope
DESCRIPTION:The goals of this webinar are to explore: a) whether the strategy of just transition can be applied across all transitions; b) whether the strategy of just transition can initiate\, as well as respond to transitions; c) the intersection of the just transition strategy and ecosocial movements; and d) the implications of the strategy’s mainstreaming. We hope that this will be the first of a series of events that will allow a broader range of advocates\, representatives\, researchers\, and policy makers\, starting with our region\, to explore just transition and sustainability politics. \nPanelists: \nEmber S. Bradbury \nDryland Ecology and Management Lab PhD Student in the Graduate Degree Program in Ecology\, Colorado State University\, GRF Fellow \nMatt Henry\nAssistant Instructional Professor in the Honors College and Research Affiliate with the School of Energy Resources\, University of Wyoming \nCorina McKendry\nAssociate Professor of Political Science and Director\, Environmental Studies Program at Colorado College \nJoshua Sbicca\nAssociate Professor of Sociology\, Colorado State University \nDimitris Stevis (moderator)\nProfessor of Political Science and co-director of Center for Environmental Justice\, Colorado State University \n 
URL:https://sustainability.colostate.edu/event/just-transitions-expanding-the-scope/
LOCATION:Zoom
ORGANIZER;CN="Laura Shaver":MAILTO:laura.shaver@colostate.edu
END:VEVENT
END:VCALENDAR