BEGIN:VCALENDAR
VERSION:2.0
PRODID:-//Sustainability - ECPv6.15.20//NONSGML v1.0//EN
CALSCALE:GREGORIAN
METHOD:PUBLISH
X-WR-CALNAME:Sustainability
X-ORIGINAL-URL:https://sustainability.colostate.edu
X-WR-CALDESC:Events for Sustainability
REFRESH-INTERVAL;VALUE=DURATION:PT1H
X-Robots-Tag:noindex
X-PUBLISHED-TTL:PT1H
BEGIN:VTIMEZONE
TZID:America/Denver
BEGIN:DAYLIGHT
TZOFFSETFROM:-0700
TZOFFSETTO:-0600
TZNAME:MDT
DTSTART:20180311T090000
END:DAYLIGHT
BEGIN:STANDARD
TZOFFSETFROM:-0600
TZOFFSETTO:-0700
TZNAME:MST
DTSTART:20181104T080000
END:STANDARD
BEGIN:DAYLIGHT
TZOFFSETFROM:-0700
TZOFFSETTO:-0600
TZNAME:MDT
DTSTART:20190310T090000
END:DAYLIGHT
BEGIN:STANDARD
TZOFFSETFROM:-0600
TZOFFSETTO:-0700
TZNAME:MST
DTSTART:20191103T080000
END:STANDARD
BEGIN:DAYLIGHT
TZOFFSETFROM:-0700
TZOFFSETTO:-0600
TZNAME:MDT
DTSTART:20200308T090000
END:DAYLIGHT
BEGIN:STANDARD
TZOFFSETFROM:-0600
TZOFFSETTO:-0700
TZNAME:MST
DTSTART:20201101T080000
END:STANDARD
END:VTIMEZONE
BEGIN:VEVENT
DTSTART;TZID=America/Denver:20190503T160000
DTEND;TZID=America/Denver:20190503T183000
DTSTAMP:20260423T105231
CREATED:20190416T152402Z
LAST-MODIFIED:20190416T152402Z
UID:5829-1556899200-1556908200@sustainability.colostate.edu
SUMMARY:Africa and Ale
DESCRIPTION:Beer\nMaxline Brewing\nHorse&Dragon Brewing\nZwei Brewing\nCSU Fermentation Science & Technology Program \nAppetizers\nRaska International Cuisine and Sauce\n \nLive Band\nFort Collins MARIMBA- playing Zimbabwean traditional and contemporary rhythms \nTours\nDave Riep\, Department of Art and Art History\, will provide tours of the Africa art exhibit \nRSVP here: https://col.st/PcJFk \n$10 cash donation suggested to help support the Africa Center
URL:https://sustainability.colostate.edu/event/africa-and-ale/
LOCATION:Gregory Allicar Museum of Art\, University Center for the Arts\, 1400 Remington St\, Fort Collins\, CO\, 80523\, United States
ATTACH;FMTTYPE=image/jpeg:https://sustainability.colostate.edu/wp-content/uploads/sites/2/2019/04/aleafrica2019poster600x600.jpg
ORGANIZER;CN="Africa Center":MAILTO:csuafricacenter@gmail.com
END:VEVENT
END:VCALENDAR