BEGIN:VCALENDAR
VERSION:2.0
PRODID:-//Sustainability - ECPv6.15.20//NONSGML v1.0//EN
CALSCALE:GREGORIAN
METHOD:PUBLISH
X-WR-CALNAME:Sustainability
X-ORIGINAL-URL:https://sustainability.colostate.edu
X-WR-CALDESC:Events for Sustainability
REFRESH-INTERVAL;VALUE=DURATION:PT1H
X-Robots-Tag:noindex
X-PUBLISHED-TTL:PT1H
BEGIN:VTIMEZONE
TZID:America/Denver
BEGIN:DAYLIGHT
TZOFFSETFROM:-0700
TZOFFSETTO:-0600
TZNAME:MDT
DTSTART:20180311T090000
END:DAYLIGHT
BEGIN:STANDARD
TZOFFSETFROM:-0600
TZOFFSETTO:-0700
TZNAME:MST
DTSTART:20181104T080000
END:STANDARD
BEGIN:DAYLIGHT
TZOFFSETFROM:-0700
TZOFFSETTO:-0600
TZNAME:MDT
DTSTART:20190310T090000
END:DAYLIGHT
BEGIN:STANDARD
TZOFFSETFROM:-0600
TZOFFSETTO:-0700
TZNAME:MST
DTSTART:20191103T080000
END:STANDARD
BEGIN:DAYLIGHT
TZOFFSETFROM:-0700
TZOFFSETTO:-0600
TZNAME:MDT
DTSTART:20200308T090000
END:DAYLIGHT
BEGIN:STANDARD
TZOFFSETFROM:-0600
TZOFFSETTO:-0700
TZNAME:MST
DTSTART:20201101T080000
END:STANDARD
END:VTIMEZONE
BEGIN:VEVENT
DTSTART;TZID=America/Denver:20190423T173000
DTEND;TZID=America/Denver:20190423T190000
DTSTAMP:20260421T205435
CREATED:20190311T203738Z
LAST-MODIFIED:20190311T203738Z
UID:5514-1556040600-1556046000@sustainability.colostate.edu
SUMMARY:Global Biodiversity Center- Biodiversity IGNITE
DESCRIPTION:The Global Biodiversity Center at Colorado State University hosts the 7th annual Biodiversity Ignite. Join us for a fast paced\, entertaining evening of IGNITE-style presentations that showcase and recognize the range of valuable biodiversity research being conducted at CSU. The center is housed at the School of Global Environmental Sustainability. \nThis event is FREE and open to the public. \nIn the IGNITE format each speaker presents 20 slides in 5 minutes\, and as an amusing side bonus\, the slides progress automatically every 15 seconds (whether or not the speaker is ready). Approximately 12 scientists from CSU will speak about their work on a diversity of organisms (microbes\, plants\, insects\, amphibians\, birds\, carnivores\, and elephants) and topics relating to biodiversity\, including climate change\, invasive species\, conservation genetics\, community solutions\, and ethics. \nBiodiversity is the variation of all life on earth\, from genes and species to communities and ecosystems. Biodiversity can be studied from the local to global scale and across the many levels of organization (genes to ecosystems).  In all systems\, aquatic to terrestrial and managed to natural\, biodiversity maintains life on our planet and underpins the ecosystem services vital to human well-being\, including food\, carbon storage\, climate regulation and aesthetics and cultural support. However\, human activities threaten this biodiversity and species extinction continues to increase. \nFor more information\, please contact Chris Funk at Chris.Funk@colostate.edu \nAbout the Global Biodiversity Center \nThe School of Global Environmental Sustainability supports the Global Biodiversity Center (GBC). The goal of the GBC is to; (1) link biodiversity researchers across campus; (2) provide expertise in biodiversity research to other scientists\, policy makers\, natural resource managers\, and conservation practitioners at the state\, national\, and international levels; and (3) work towards the enhancement of biodiversity through research\, policy advancement\, and outreach. Visit http://biodiversity.colostate.edu for more information.
URL:https://sustainability.colostate.edu/event/biodiversity-ignite/
LOCATION:Maxline Brewing\, 2724 McClelland Dr #190\, Fort Collins\, CO\, 80525\, United States
ATTACH;FMTTYPE=image/jpeg:https://sustainability.colostate.edu/wp-content/uploads/sites/2/2019/03/2019Ignite600x600.jpg
ORGANIZER;CN="Jacob Job":MAILTO:jrjob@rams.colostate.edu
END:VEVENT
END:VCALENDAR