BEGIN:VCALENDAR
VERSION:2.0
PRODID:-//Sustainability - ECPv6.15.20//NONSGML v1.0//EN
CALSCALE:GREGORIAN
METHOD:PUBLISH
X-WR-CALNAME:Sustainability
X-ORIGINAL-URL:https://sustainability.colostate.edu
X-WR-CALDESC:Events for Sustainability
REFRESH-INTERVAL;VALUE=DURATION:PT1H
X-Robots-Tag:noindex
X-PUBLISHED-TTL:PT1H
BEGIN:VTIMEZONE
TZID:America/Denver
BEGIN:DAYLIGHT
TZOFFSETFROM:-0700
TZOFFSETTO:-0600
TZNAME:MDT
DTSTART:20180311T090000
END:DAYLIGHT
BEGIN:STANDARD
TZOFFSETFROM:-0600
TZOFFSETTO:-0700
TZNAME:MST
DTSTART:20181104T080000
END:STANDARD
BEGIN:DAYLIGHT
TZOFFSETFROM:-0700
TZOFFSETTO:-0600
TZNAME:MDT
DTSTART:20190310T090000
END:DAYLIGHT
BEGIN:STANDARD
TZOFFSETFROM:-0600
TZOFFSETTO:-0700
TZNAME:MST
DTSTART:20191103T080000
END:STANDARD
BEGIN:DAYLIGHT
TZOFFSETFROM:-0700
TZOFFSETTO:-0600
TZNAME:MDT
DTSTART:20200308T090000
END:DAYLIGHT
BEGIN:STANDARD
TZOFFSETFROM:-0600
TZOFFSETTO:-0700
TZNAME:MST
DTSTART:20201101T080000
END:STANDARD
END:VTIMEZONE
BEGIN:VEVENT
DTSTART;TZID=America/Denver:20190226T190000
DTEND;TZID=America/Denver:20190226T200000
DTSTAMP:20260421T044326
CREATED:20181205T205838Z
LAST-MODIFIED:20181205T205838Z
UID:4809-1551207600-1551211200@sustainability.colostate.edu
SUMMARY:Antarctic Lecture: The First U.S. Geology Field Party in Antarctica
DESCRIPTION:James Collinson\, Professor Emeritus\, The Ohio State University \nOn November 29\, 1929 Lieutenant-Commander Richard E. Byrd made\nthe first flight to the South Pole. On November 4 a geological field\nparty of 6 led by Byrd’s Chief Scientist and second in command\,\nLaurence M. Gould\, left Little America. They sledged across the Ross\nIce Shelf to the Queen Maud Mountains along the path of Byrd’s\nproposed flight. Amundsen in his trek to the South Pole had previously\ncrossed the mountains in the same area\, but had not reported\ngeological observations. Gould and his men extended the known\ngeology throughout much of the Transantarctic Mountains.
URL:https://sustainability.colostate.edu/event/antarctic-lecture-3/
LOCATION:Old Town Library\, 201 Peterson Street\, Fort Collins\, CO\, 80524\, United States
ORGANIZER;CN="Andre Franco":MAILTO:Andre.Franco@colostate.edu
END:VEVENT
END:VCALENDAR