BEGIN:VCALENDAR
VERSION:2.0
PRODID:-//Sustainability - ECPv6.15.20//NONSGML v1.0//EN
CALSCALE:GREGORIAN
METHOD:PUBLISH
X-WR-CALNAME:Sustainability
X-ORIGINAL-URL:https://sustainability.colostate.edu
X-WR-CALDESC:Events for Sustainability
REFRESH-INTERVAL;VALUE=DURATION:PT1H
X-Robots-Tag:noindex
X-PUBLISHED-TTL:PT1H
BEGIN:VTIMEZONE
TZID:America/Denver
BEGIN:DAYLIGHT
TZOFFSETFROM:-0700
TZOFFSETTO:-0600
TZNAME:MDT
DTSTART:20170312T090000
END:DAYLIGHT
BEGIN:STANDARD
TZOFFSETFROM:-0600
TZOFFSETTO:-0700
TZNAME:MST
DTSTART:20171105T080000
END:STANDARD
BEGIN:DAYLIGHT
TZOFFSETFROM:-0700
TZOFFSETTO:-0600
TZNAME:MDT
DTSTART:20180311T090000
END:DAYLIGHT
BEGIN:STANDARD
TZOFFSETFROM:-0600
TZOFFSETTO:-0700
TZNAME:MST
DTSTART:20181104T080000
END:STANDARD
BEGIN:DAYLIGHT
TZOFFSETFROM:-0700
TZOFFSETTO:-0600
TZNAME:MDT
DTSTART:20190310T090000
END:DAYLIGHT
BEGIN:STANDARD
TZOFFSETFROM:-0600
TZOFFSETTO:-0700
TZNAME:MST
DTSTART:20191103T080000
END:STANDARD
END:VTIMEZONE
BEGIN:VEVENT
DTSTART;TZID=America/Denver:20181120T190000
DTEND;TZID=America/Denver:20181120T200000
DTSTAMP:20260423T193452
CREATED:20180926T174024Z
LAST-MODIFIED:20180926T174024Z
UID:4321-1542740400-1542744000@sustainability.colostate.edu
SUMMARY:Antarctic Lecture- John Weller
DESCRIPTION:John B. Weller\, an internationally acclaimed photographer\, filmmaker and author\, invites you to journey above and below the ice in Antarctica. He will explain how his efforts to protect the Ross Sea\, Antarctica inspired a global coalition of organizations\, scientists\, diplomats\, and more than a million people\, and helped train world leaders from the White House to the Kremlin. Weller’s photographs of the Ross Sea became the face of Antarctic conservation efforts worldwide. Twelve years of work came to fruition in 2016 when diplomats from 24 countries and the EU adopted the Ross Sea Marine Protected Area- the first large-scale international marine protected area and the largest MPA in the world. \n  \nA lecture series held once a month through the academic year discussing life and work ‘on the ice’ with invited Antarctic researchers. These lectures are located at the Poudre River Library District – Old Town Library at 201 Petersen Street\, Fort Collins\, CO from 7-8pm.
URL:https://sustainability.colostate.edu/event/antarctic-lecture-2/
LOCATION:Old Town Library\, 201 Peterson Street\, Fort Collins\, CO\, 80524\, United States
ATTACH;FMTTYPE=image/jpeg:https://sustainability.colostate.edu/wp-content/uploads/sites/2/2018/09/J-Weller_Antartic-Lecture600x600.jpg
ORGANIZER;CN="Andre Franco":MAILTO:Andre.Franco@colostate.edu
END:VEVENT
END:VCALENDAR