BEGIN:VCALENDAR
VERSION:2.0
PRODID:-//Sustainability - ECPv6.15.20//NONSGML v1.0//EN
CALSCALE:GREGORIAN
METHOD:PUBLISH
X-WR-CALNAME:Sustainability
X-ORIGINAL-URL:https://sustainability.colostate.edu
X-WR-CALDESC:Events for Sustainability
REFRESH-INTERVAL;VALUE=DURATION:PT1H
X-Robots-Tag:noindex
X-PUBLISHED-TTL:PT1H
BEGIN:VTIMEZONE
TZID:America/Denver
BEGIN:DAYLIGHT
TZOFFSETFROM:-0700
TZOFFSETTO:-0600
TZNAME:MDT
DTSTART:20170312T090000
END:DAYLIGHT
BEGIN:STANDARD
TZOFFSETFROM:-0600
TZOFFSETTO:-0700
TZNAME:MST
DTSTART:20171105T080000
END:STANDARD
BEGIN:DAYLIGHT
TZOFFSETFROM:-0700
TZOFFSETTO:-0600
TZNAME:MDT
DTSTART:20180311T090000
END:DAYLIGHT
BEGIN:STANDARD
TZOFFSETFROM:-0600
TZOFFSETTO:-0700
TZNAME:MST
DTSTART:20181104T080000
END:STANDARD
BEGIN:DAYLIGHT
TZOFFSETFROM:-0700
TZOFFSETTO:-0600
TZNAME:MDT
DTSTART:20190310T090000
END:DAYLIGHT
BEGIN:STANDARD
TZOFFSETFROM:-0600
TZOFFSETTO:-0700
TZNAME:MST
DTSTART:20191103T080000
END:STANDARD
END:VTIMEZONE
BEGIN:VEVENT
DTSTART;TZID=America/Denver:20181010T170000
DTEND;TZID=America/Denver:20181010T183000
DTSTAMP:20260422T232548
CREATED:20180926T161232Z
LAST-MODIFIED:20180926T161232Z
UID:4315-1539190800-1539196200@sustainability.colostate.edu
SUMMARY:Managing the Planet
DESCRIPTION:CRISPR Gene Editing: Environmentally Friendly Choice? \nThe School of Global Environmental Sustainability (SoGES) brings to CSU and the community a CSU panel discussion on CRISPR\, the next generation of genetically engineered products. Known for its simplicity and ease of use\, CRISPR promises to provide an accurate and cheap means of transforming agriculture to meet the growing food demands of the future. CRISPR is a genome editing technique that is used in a wide variety of fields and is currently most prevalent in bio-agriculture. Unlike the current understanding around genetically modified organisms (GMO)\, which inserts foreign genes into DNA sequences\, CRISPR technology cuts out genes and splices in new ones with the purpose of treating for genetic diseases. This editing of an organisms’ natural genome comes with questions regarding the security\, safety and ethical risks to the environmental system. Will this technology be critical for making crops better equipped to handle heat\, drought\, and disease\, or will it pave a path toward “designer babies” and “gene drives”? \nOur panelists will weigh the costs and benefits of CRISPR by discussing genetically engineered products within the context of human and environmental health. \nJoin us at Avogadro’s Number (605 S Mason Street Fort Collins\, Colorado 80524) from 5 to 6:30 p.m. on Wednesday\, October 10th\, 2018. \nPanelists: \n\nStephen Pearce\, Department of Soil and Crop Sciences\nGraham Peers\, Department of Biology\nCarol Wilusz\, Department of Microbiology\, Immunology\, and Pathology\n\nThe discussion will be moderated by Gene Kelly\, Faculty Research Liaison at SoGES\, Deputy Director of the Agricultural Experiment Station and Associate Dean of Extension. \nThe panel discussion\, part of a Managing the Planet series\, is free of charge and open to the public. \n 
URL:https://sustainability.colostate.edu/event/managing-the-planet/
LOCATION:Avogadro’s Number\, 605 S. Mason St.\, Fort Collins\, CO\, 80524\, United States
ATTACH;FMTTYPE=image/jpeg:https://sustainability.colostate.edu/wp-content/uploads/sites/2/2018/09/OctMTPposter2018-600x600-scaled.jpg
ORGANIZER;CN="School of Global Environmental Sustainability":MAILTO:laura.shaver@colostate.edu
END:VEVENT
END:VCALENDAR