BEGIN:VCALENDAR
VERSION:2.0
PRODID:-//Sustainability - ECPv6.15.20//NONSGML v1.0//EN
CALSCALE:GREGORIAN
METHOD:PUBLISH
X-WR-CALNAME:Sustainability
X-ORIGINAL-URL:https://sustainability.colostate.edu
X-WR-CALDESC:Events for Sustainability
REFRESH-INTERVAL;VALUE=DURATION:PT1H
X-Robots-Tag:noindex
X-PUBLISHED-TTL:PT1H
BEGIN:VTIMEZONE
TZID:America/Denver
BEGIN:DAYLIGHT
TZOFFSETFROM:-0700
TZOFFSETTO:-0600
TZNAME:MDT
DTSTART:20170312T090000
END:DAYLIGHT
BEGIN:STANDARD
TZOFFSETFROM:-0600
TZOFFSETTO:-0700
TZNAME:MST
DTSTART:20171105T080000
END:STANDARD
BEGIN:DAYLIGHT
TZOFFSETFROM:-0700
TZOFFSETTO:-0600
TZNAME:MDT
DTSTART:20180311T090000
END:DAYLIGHT
BEGIN:STANDARD
TZOFFSETFROM:-0600
TZOFFSETTO:-0700
TZNAME:MST
DTSTART:20181104T080000
END:STANDARD
BEGIN:DAYLIGHT
TZOFFSETFROM:-0700
TZOFFSETTO:-0600
TZNAME:MDT
DTSTART:20190310T090000
END:DAYLIGHT
BEGIN:STANDARD
TZOFFSETFROM:-0600
TZOFFSETTO:-0700
TZNAME:MST
DTSTART:20191103T080000
END:STANDARD
END:VTIMEZONE
BEGIN:VEVENT
DTSTART;TZID=America/Denver:20180912T170000
DTEND;TZID=America/Denver:20180912T183000
DTSTAMP:20260425T104712
CREATED:20180824T001203Z
LAST-MODIFIED:20180824T001203Z
UID:3942-1536771600-1536777000@sustainability.colostate.edu
SUMMARY:Managing the Planet panel series
DESCRIPTION:The Heat Over Water: Will Glade Reservoir bring us closer to water security or be an example of ecosystem degradation?\nThe School of Global Environmental Sustainability (SoGES) brings to CSU and the community a CSU panel discussion on the impact of the Northern Integrated Supply Project (NISP) on the Poudre River\, and the residents of Fort Collins and the new fifteen communities along the Northern front range of Colorado. The NISP proposes the construction of two reservoirs pulling water from the Poudre River; Glade Reservoir\, the larger of the two with a capacity of 170\,000 acre-feet of water\, would be located northwest of Fort Collins. As the U.S. Army Corps of Engineers released the final Environmental Impact Statement\, the debate is back in the spotlight. This 15-year\, highly contested water project has brought stakeholders of all areas to the table for a debate on how to best plan for future water security scenarios\, and it is now\, once again open for public comment. Will this one-billion dollar project be our answer to water security or an example of ecosystem degradation? \nOur panelists will weigh the environmental costs and benefits of Glade Reservoir by discussing river health within the context of securing our future water needs. \nPanelists: \n\nLeRoy Poff\, Department of Biology\nReagan Waskom\, Director of the Colorado Water Institute\nEllen Wohl\, Department of Geosciences\nAditi Bhaskar: Associate Professor Civil and Environmental Engineering\n\nThe discussion will be moderated by Gene Kelly\, Faculty Research Liaison at SoGES\, Deputy Director of the Agricultural Experiment Station and Associate Dean of Extension. \nThe panel discussion\, part of a Managing the Planet series\, is free of charge and open to the public.
URL:https://sustainability.colostate.edu/event/managing-the-planet-panel-series-september/
LOCATION:Avogadro’s Number\, 605 S. Mason St.\, Fort Collins\, CO\, 80524\, United States
ATTACH;FMTTYPE=image/jpeg:https://sustainability.colostate.edu/wp-content/uploads/sites/2/2018/08/SeptMTP600x600.jpg
ORGANIZER;CN="School of Global Environmental Sustainability":MAILTO:laura.shaver@colostate.edu
END:VEVENT
END:VCALENDAR