BEGIN:VCALENDAR
VERSION:2.0
PRODID:-//Sustainability - ECPv6.15.20//NONSGML v1.0//EN
CALSCALE:GREGORIAN
METHOD:PUBLISH
X-WR-CALNAME:Sustainability
X-ORIGINAL-URL:https://sustainability.colostate.edu
X-WR-CALDESC:Events for Sustainability
REFRESH-INTERVAL;VALUE=DURATION:PT1H
X-Robots-Tag:noindex
X-PUBLISHED-TTL:PT1H
BEGIN:VTIMEZONE
TZID:America/Denver
BEGIN:DAYLIGHT
TZOFFSETFROM:-0700
TZOFFSETTO:-0600
TZNAME:MDT
DTSTART:20170312T090000
END:DAYLIGHT
BEGIN:STANDARD
TZOFFSETFROM:-0600
TZOFFSETTO:-0700
TZNAME:MST
DTSTART:20171105T080000
END:STANDARD
BEGIN:DAYLIGHT
TZOFFSETFROM:-0700
TZOFFSETTO:-0600
TZNAME:MDT
DTSTART:20180311T090000
END:DAYLIGHT
BEGIN:STANDARD
TZOFFSETFROM:-0600
TZOFFSETTO:-0700
TZNAME:MST
DTSTART:20181104T080000
END:STANDARD
BEGIN:DAYLIGHT
TZOFFSETFROM:-0700
TZOFFSETTO:-0600
TZNAME:MDT
DTSTART:20190310T090000
END:DAYLIGHT
BEGIN:STANDARD
TZOFFSETFROM:-0600
TZOFFSETTO:-0700
TZNAME:MST
DTSTART:20191103T080000
END:STANDARD
END:VTIMEZONE
BEGIN:VEVENT
DTSTART;TZID=America/Denver:20180709T060000
DTEND;TZID=America/Denver:20180709T070000
DTSTAMP:20260420T174313
CREATED:20180629T230311Z
LAST-MODIFIED:20180629T230311Z
UID:3331-1531116000-1531119600@sustainability.colostate.edu
SUMMARY:Viewpoints: Visualizing Climate Change in Photographs and Video
DESCRIPTION:SummerFest Viewpoint Series presents science speaker Peter Seel\, Professor\, CSU Department of Communications\nProgram:  A look at some of the major and emerging figures doing visual documentaries of climate change with a focus on two photographers\, James Balog and Sebastião Salgado\, and their documentaries\, Chasing Ice and Salt of the Earth. \nFree event\, registration required
URL:https://sustainability.colostate.edu/event/viewpoints-visualizing-climate-change-in-photographs-and-video/
LOCATION:Colorado State University\, Scott Bioengineering Building\, Fort Collins\, CO\, 80523\, United States
END:VEVENT
END:VCALENDAR